BEGIN:VCALENDAR
VERSION:2.0
PRODID:-//Scone Showjumping Club Inc - ECPv4.6.11.1//NONSGML v1.0//EN
CALSCALE:GREGORIAN
METHOD:PUBLISH
X-WR-CALNAME:Scone Showjumping Club Inc
X-ORIGINAL-URL:http://www.sconeshowjumpingclub.com.au
X-WR-CALDESC:Events for Scone Showjumping Club Inc
BEGIN:VEVENT
DTSTART;TZID=Australia/Sydney:20180325T080000
DTEND;TZID=Australia/Sydney:20180325T150000
DTSTAMP:20180226T152643
CREATED:20171112T222701Z
LAST-MODIFIED:20180221T053441Z
UID:386-1521964800-1521990000@www.sconeshowjumpingclub.com.au
SUMMARY:TBC March Training Day
DESCRIPTION:Please see any updates to our facebook page for the March Training Day date. \n\nWe start at 45/50 cm and go up in 10 cm increments. We will be building up to 1.20 / 1.30m at this stage\, depending on the day. Please visit our facebook page for updates closer to the date. \n\nTraining days begin at 8.00am. Please come and help with setup\, rails or pack up on completion of rounds. We generally finish the day early-mid afternoon. \n
URL:http://www.sconeshowjumpingclub.com.au/event/march-training-day-2/
LOCATION:Scone\, 2337
CATEGORIES:Training Day
END:VEVENT
BEGIN:VEVENT
DTSTART;TZID=Australia/Sydney:20180407T080000
DTEND;TZID=Australia/Sydney:20180505T150000
DTSTAMP:20180226T152643
CREATED:20180221T110835Z
LAST-MODIFIED:20180221T110835Z
UID:395-1523088000-1525532400@www.sconeshowjumpingclub.com.au
SUMMARY:April Training Day
DESCRIPTION:We start at 45/50 cm and go up in 10 cm increments. We will be building up to 1.20 / 1.30m at this stage\, depending on the day. Please visit our facebook page for updates closer to the date. \n\nTraining days begin at 8.00am. Please come and help with setup\, rails or pack up on completion of rounds. We generally finish the day early-mid afternoon. \n
URL:http://www.sconeshowjumpingclub.com.au/event/april-training-day-3/
LOCATION:Scone\, 2337
CATEGORIES:Training Day
END:VEVENT
BEGIN:VEVENT
DTSTART;TZID=Australia/Sydney:20180527T080000
DTEND;TZID=Australia/Sydney:20180527T150000
DTSTAMP:20180226T152643
CREATED:20180221T110929Z
LAST-MODIFIED:20180221T110929Z
UID:397-1527408000-1527433200@www.sconeshowjumpingclub.com.au
SUMMARY:May Training Day
DESCRIPTION:We start at 45/50 cm and go up in 10 cm increments. We will be building up to 1.20 / 1.30m at this stage\, depending on the day. Please visit our facebook page for updates closer to the date. \n\nTraining days begin at 8.00am. Please come and help with setup\, rails or pack up on completion of rounds. We generally finish the day early-mid afternoon. \n
URL:http://www.sconeshowjumpingclub.com.au/event/may-training-day/
LOCATION:Scone\, 2337
CATEGORIES:Training Day
END:VEVENT
BEGIN:VEVENT
DTSTART;TZID=Australia/Sydney:20180715T080000
DTEND;TZID=Australia/Sydney:20180715T150000
DTSTAMP:20180226T152643
CREATED:20180221T111001Z
LAST-MODIFIED:20180221T111001Z
UID:399-1531641600-1531666800@www.sconeshowjumpingclub.com.au
SUMMARY:July Training Day
DESCRIPTION:We start at 45/50 cm and go up in 10 cm increments. We will be building up to 1.20 / 1.30m at this stage\, depending on the day. Please visit our facebook page for updates closer to the date. \n\nTraining days begin at 8.00am. Please come and help with setup\, rails or pack up on completion of rounds. We generally finish the day early-mid afternoon. \n
URL:http://www.sconeshowjumpingclub.com.au/event/july-training-day-3/
LOCATION:Scone\, 2337
CATEGORIES:Training Day
END:VEVENT
BEGIN:VEVENT
DTSTART;TZID=Australia/Sydney:20180811T080000
DTEND;TZID=Australia/Sydney:20180811T150000
DTSTAMP:20180226T152643
CREATED:20180221T111031Z
LAST-MODIFIED:20180221T111031Z
UID:401-1533974400-1533999600@www.sconeshowjumpingclub.com.au
SUMMARY:August Training Day
DESCRIPTION:We start at 45/50 cm and go up in 10 cm increments. We will be building up to 1.20 / 1.30m at this stage\, depending on the day. Please visit our facebook page for updates closer to the date. \n\nTraining days begin at 8.00am. Please come and help with setup\, rails or pack up on completion of rounds. We generally finish the day early-mid afternoon. \n
URL:http://www.sconeshowjumpingclub.com.au/event/august-training-day-3/
LOCATION:Scone\, 2337
CATEGORIES:Training Day
END:VEVENT
BEGIN:VEVENT
DTSTART;TZID=Australia/Sydney:20181110T080000
DTEND;TZID=Australia/Sydney:20181110T150000
DTSTAMP:20180226T152643
CREATED:20180221T111113Z
LAST-MODIFIED:20180221T111119Z
UID:403-1541836800-1541862000@www.sconeshowjumpingclub.com.au
SUMMARY:November Training Day
DESCRIPTION:We start at 45/50 cm and go up in 10 cm increments. We will be building up to 1.20 / 1.30m at this stage\, depending on the day. Please visit our facebook page for updates closer to the date. \n\nTraining days begin at 8.00am. Please come and help with setup\, rails or pack up on completion of rounds. We generally finish the day early-mid afternoon. \n
URL:http://www.sconeshowjumpingclub.com.au/event/november-training-day-3/
LOCATION:Scone\, 2337
CATEGORIES:Training Day
END:VEVENT
END:VCALENDAR